BEGIN:VCALENDAR
VERSION:2.0
PRODID:-//MUNICIPALIDAD DE BALCARCE - ECPv6.7.0//NONSGML v1.0//EN
CALSCALE:GREGORIAN
METHOD:PUBLISH
X-WR-CALNAME:MUNICIPALIDAD DE BALCARCE
X-ORIGINAL-URL:https://balcarce.tur.ar
X-WR-CALDESC:Events for MUNICIPALIDAD DE BALCARCE
REFRESH-INTERVAL;VALUE=DURATION:PT1H
X-Robots-Tag:noindex
X-PUBLISHED-TTL:PT1H
BEGIN:VTIMEZONE
TZID:America/Argentina/Buenos_Aires
BEGIN:STANDARD
TZOFFSETFROM:-0300
TZOFFSETTO:-0300
TZNAME:-03
DTSTART:20240101T000000
END:STANDARD
END:VTIMEZONE
BEGIN:VEVENT
DTSTART;TZID=America/Argentina/Buenos_Aires:20240505T200000
DTEND;TZID=America/Argentina/Buenos_Aires:20240505T200000
DTSTAMP:20260422T174149
CREATED:20240502T162900Z
LAST-MODIFIED:20240502T162900Z
UID:1939-1714939200-1714939200@balcarce.tur.ar
SUMMARY:CINE EN LA CASA PRESENTA… “LA EXTORSION”
DESCRIPTION:El ciclo Cine en la Casa presenta “La Extorsión”\, una película estrenada en abril de 2023\, protagonizada por un gran elenco encabezado por Guillermo Francella\, a quien acompañan Pablo Rago y Andrea Frigerio\, entre otros. \nSINOPSIS: \nUn experimentado piloto comercial se ve obligado a colaborar con los servicios de inteligencia de su país\, Argentina\, para evitar ser sancionado por una grave falta que cometió en el trabajo. Rápidamente se ve involucrado en una trama de intriga y extorsión\, algo que pondrá en riesgo su vida y por lo cual deberá pagar un precio muy alto para poder escapar de ella. \nDel director Martino Zaidelis\, cuenta con los efectos especiales de Hernán Pablo Martínez\, Matías Kamijo y Ana Ávila. \nDÍA Y HORARIO: \nSe podrá apreciar el próximo domingo\, a partir de la hora 20\, en la Casa del Bicentenario\, en avenida Favaloro 785\, con entrada libre y gratuita.
URL:https://balcarce.tur.ar/event/cine-en-la-casa-presenta-la-extorsion/
LOCATION:Casa de La Historia y La Cultura del Bicentenario\, Avda. Favaloro 785\, Balcarce\, Provincia de Buenos Aires\, 7620\, Argentina
CATEGORIES:CINE
ATTACH;FMTTYPE=image/jpeg:https://balcarce.tur.ar/wp-content/uploads/2024/05/la-extorsion-poster.jpg
END:VEVENT
END:VCALENDAR