BEGIN:VCALENDAR
VERSION:2.0
PRODID:-//MUNICIPALIDAD DE BALCARCE - ECPv6.7.0//NONSGML v1.0//EN
CALSCALE:GREGORIAN
METHOD:PUBLISH
X-WR-CALNAME:MUNICIPALIDAD DE BALCARCE
X-ORIGINAL-URL:https://balcarce.tur.ar
X-WR-CALDESC:Events for MUNICIPALIDAD DE BALCARCE
REFRESH-INTERVAL;VALUE=DURATION:PT1H
X-Robots-Tag:noindex
X-PUBLISHED-TTL:PT1H
BEGIN:VTIMEZONE
TZID:America/Argentina/Buenos_Aires
BEGIN:STANDARD
TZOFFSETFROM:-0300
TZOFFSETTO:-0300
TZNAME:-03
DTSTART:20240101T000000
END:STANDARD
END:VTIMEZONE
BEGIN:VEVENT
DTSTART;TZID=America/Argentina/Buenos_Aires:20240628T083000
DTEND;TZID=America/Argentina/Buenos_Aires:20240628T160000
DTSTAMP:20260419T100641
CREATED:20240524T144248Z
LAST-MODIFIED:20240603T200703Z
UID:2150-1719563400-1719590400@balcarce.tur.ar
SUMMARY:Expo Balcarce Estudia
DESCRIPTION:Contaremos con la presencia de las Universidades Nacionales\, privadas e institutos mas importantes de la Provincia.
URL:https://balcarce.tur.ar/event/expo-balcarce-estudia/
LOCATION:Gimnasio escuela técnica n°1\, Avenida 32 entre 31 y 35\, Balcarce\, Buenos Aires\, 7620\, Argentina
CATEGORIES:Estudiantil
ATTACH;FMTTYPE=image/jpeg:https://balcarce.tur.ar/wp-content/uploads/2024/05/expobalcarce-estudia-2024-invitacion-escuelas.jpg
ORGANIZER;CN="Direcci%C3%B3n de Juventud Balcarce":MAILTO:direcciondejuventudbalcarce@gmail.com
END:VEVENT
END:VCALENDAR