BEGIN:VCALENDAR
VERSION:2.0
PRODID:-//MUNICIPALIDAD DE BALCARCE - ECPv6.7.0//NONSGML v1.0//EN
CALSCALE:GREGORIAN
METHOD:PUBLISH
X-WR-CALNAME:MUNICIPALIDAD DE BALCARCE
X-ORIGINAL-URL:https://balcarce.tur.ar
X-WR-CALDESC:Events for MUNICIPALIDAD DE BALCARCE
REFRESH-INTERVAL;VALUE=DURATION:PT1H
X-Robots-Tag:noindex
X-PUBLISHED-TTL:PT1H
BEGIN:VTIMEZONE
TZID:America/Argentina/Buenos_Aires
BEGIN:STANDARD
TZOFFSETFROM:-0300
TZOFFSETTO:-0300
TZNAME:-03
DTSTART:20240101T000000
END:STANDARD
END:VTIMEZONE
BEGIN:VEVENT
DTSTART;TZID=America/Argentina/Buenos_Aires:20240713T210000
DTEND;TZID=America/Argentina/Buenos_Aires:20240713T230000
DTSTAMP:20260424T235112
CREATED:20240626T205752Z
LAST-MODIFIED:20240626T205752Z
UID:3644-1720904400-1720911600@balcarce.tur.ar
SUMMARY:La Noche de los Payadores
DESCRIPTION:Jorge Alberto Soccodatto\, David Tokar\, Emanuel Gabotto y Cristian Mendez. Actuación del Ballet Estampa Criolla. Conducción Ignacio Melucci.
URL:https://balcarce.tur.ar/event/la-noche-de-los-payadores/
LOCATION:Teatro Municipal “Luis A. Conti”\, Calle 16 690\, Balcarce\, Provincia de Buenos Aires\, 7620\, Argentina
CATEGORIES:evento,folklore,TEATRO,turismo
ATTACH;FMTTYPE=image/jpeg:https://balcarce.tur.ar/wp-content/uploads/2024/06/WhatsApp-Image-2024-06-26-at-16.38.05.jpeg
END:VEVENT
END:VCALENDAR