BEGIN:VCALENDAR
VERSION:2.0
PRODID:-//MUNICIPALIDAD DE BALCARCE - ECPv6.7.0//NONSGML v1.0//EN
CALSCALE:GREGORIAN
METHOD:PUBLISH
X-WR-CALNAME:MUNICIPALIDAD DE BALCARCE
X-ORIGINAL-URL:https://balcarce.tur.ar
X-WR-CALDESC:Events for MUNICIPALIDAD DE BALCARCE
REFRESH-INTERVAL;VALUE=DURATION:PT1H
X-Robots-Tag:noindex
X-PUBLISHED-TTL:PT1H
BEGIN:VTIMEZONE
TZID:America/Argentina/Buenos_Aires
BEGIN:STANDARD
TZOFFSETFROM:-0300
TZOFFSETTO:-0300
TZNAME:-03
DTSTART:20240101T000000
END:STANDARD
END:VTIMEZONE
BEGIN:VEVENT
DTSTART;TZID=America/Argentina/Buenos_Aires:20240707T100000
DTEND;TZID=America/Argentina/Buenos_Aires:20240707T180000
DTSTAMP:20260422T104146
CREATED:20240626T180235Z
LAST-MODIFIED:20240626T180235Z
UID:3626-1720346400-1720375200@balcarce.tur.ar
SUMMARY:UTTD Short Sierra Bachicha
DESCRIPTION:UTTD Short Sierra Bachicha   es la más técnica\, la mas dificil\, la que todos quieren desafiar….En ella los corredores recorrerán una formación serrana virgen\, llamada “Sistema Bachicha” que consta de 3 cerros y casualmente es la mas alta del partido de Balcarce. Las distancias de la carreras son de 10K y 21K
URL:https://balcarce.tur.ar/event/uttd-short-sierra-bachicha/
LOCATION:Polideportivo Municipal\, ruta 55 km 79\,5\, Balcarce\, Buenos Aires\, 7620\, Argentina
CATEGORIES:aire libre,DEPORTE,sierra,turismo
ATTACH;FMTTYPE=image/jpeg:https://balcarce.tur.ar/wp-content/uploads/2024/06/WhatsApp-Image-2024-06-26-at-14.53.18.jpeg
END:VEVENT
END:VCALENDAR