BEGIN:VCALENDAR
VERSION:2.0
PRODID:-//MUNICIPALIDAD DE BALCARCE - ECPv6.7.0//NONSGML v1.0//EN
CALSCALE:GREGORIAN
METHOD:PUBLISH
X-ORIGINAL-URL:https://balcarce.tur.ar
X-WR-CALDESC:Events for MUNICIPALIDAD DE BALCARCE
REFRESH-INTERVAL;VALUE=DURATION:PT1H
X-Robots-Tag:noindex
X-PUBLISHED-TTL:PT1H
BEGIN:VTIMEZONE
TZID:America/Argentina/Buenos_Aires
BEGIN:STANDARD
TZOFFSETFROM:-0300
TZOFFSETTO:-0300
TZNAME:-03
DTSTART:20240101T000000
END:STANDARD
END:VTIMEZONE
BEGIN:VEVENT
DTSTART;TZID=America/Argentina/Buenos_Aires:20241027T100000
DTEND;TZID=America/Argentina/Buenos_Aires:20241027T180000
DTSTAMP:20260422T053218
CREATED:20240626T181833Z
LAST-MODIFIED:20240626T181934Z
UID:3634-1730023200-1730052000@balcarce.tur.ar
SUMMARY:UTTD Tierras del Diablo 15 años
DESCRIPTION:Se acerca LA FIESTA DEL TRAIL. \n11\, 25 y 42km en las sierras más antiguas del planeta 🌎 \nUltra Trail Tierras del Diablo \nInscripciones ABIERTAS vía Eventbrite y WhatsApp 📲 \n– linktree.com/grupohets \n– https://www.eventbrite.com.ar/e/uttd-tierras-del-diablo-banco-nacion-2023-tickets-676910727207 \nELEGÍ TU AVENTURA
URL:https://balcarce.tur.ar/event/uttd-tierras-del-diablo-15-anos/
LOCATION:Cerro “El Triunfo”\, Av. Suipacha y Av. Cereijo\, Balcarce\, Provincia de Buenos Aires\, 7620\, Argentina
CATEGORIES:aire libre,DEPORTE,sierra,turismo
ATTACH;FMTTYPE=image/jpeg:https://balcarce.tur.ar/wp-content/uploads/2024/06/WhatsApp-Image-2024-06-26-at-15.21.42.jpeg
END:VEVENT
END:VCALENDAR