BEGIN:VCALENDAR
VERSION:2.0
PRODID:-//MUNICIPALIDAD DE BALCARCE - ECPv6.7.0//NONSGML v1.0//EN
CALSCALE:GREGORIAN
METHOD:PUBLISH
X-ORIGINAL-URL:https://balcarce.tur.ar
X-WR-CALDESC:Events for MUNICIPALIDAD DE BALCARCE
REFRESH-INTERVAL;VALUE=DURATION:PT1H
X-Robots-Tag:noindex
X-PUBLISHED-TTL:PT1H
BEGIN:VTIMEZONE
TZID:America/Argentina/Buenos_Aires
BEGIN:STANDARD
TZOFFSETFROM:-0300
TZOFFSETTO:-0300
TZNAME:-03
DTSTART:20240101T000000
END:STANDARD
END:VTIMEZONE
BEGIN:VEVENT
DTSTART;TZID=America/Argentina/Buenos_Aires:20240615T113000
DTEND;TZID=America/Argentina/Buenos_Aires:20240615T170000
DTSTAMP:20260422T140535
CREATED:20240613T163118Z
LAST-MODIFIED:20240613T163610Z
UID:2996-1718451000-1718470800@balcarce.tur.ar
SUMMARY:Ascenso a Sierra “La Vigilancia”
DESCRIPTION:Ascenso a Sierra La Vigilancia. A cargo de la Prof. de Ed. Fisica Nancy Nava.  Trekking dificultad moderada + movimiento consciente. Inscripciones y consultar costo al 2266 63-1133.
URL:https://balcarce.tur.ar/event/sierra-la-vigilancia/
LOCATION:Sierra “La Vigilancia”\, sierra la vigilancia\, Balcarce\, Buenos Aires\, 7620\, Argentina
CATEGORIES:aire libre,DEPORTE,sierra,turismo
ATTACH;FMTTYPE=image/jpeg:https://balcarce.tur.ar/wp-content/uploads/2024/06/WhatsApp-Image-2024-06-11-at-16.33.36.jpeg
END:VEVENT
END:VCALENDAR