BEGIN:VCALENDAR
VERSION:2.0
PRODID:-//MUNICIPALIDAD DE BALCARCE - ECPv6.7.0//NONSGML v1.0//EN
CALSCALE:GREGORIAN
METHOD:PUBLISH
X-WR-CALNAME:MUNICIPALIDAD DE BALCARCE
X-ORIGINAL-URL:https://balcarce.tur.ar
X-WR-CALDESC:Events for MUNICIPALIDAD DE BALCARCE
REFRESH-INTERVAL;VALUE=DURATION:PT1H
X-Robots-Tag:noindex
X-PUBLISHED-TTL:PT1H
BEGIN:VTIMEZONE
TZID:America/Argentina/Buenos_Aires
BEGIN:STANDARD
TZOFFSETFROM:-0300
TZOFFSETTO:-0300
TZNAME:-03
DTSTART:20240101T000000
END:STANDARD
END:VTIMEZONE
BEGIN:VEVENT
DTSTART;TZID=America/Argentina/Buenos_Aires:20240727T210000
DTEND;TZID=America/Argentina/Buenos_Aires:20240827T233000
DTSTAMP:20260422T185552
CREATED:20240704T200906Z
LAST-MODIFIED:20240704T200906Z
UID:3816-1722114000-1724801400@balcarce.tur.ar
SUMMARY:Gran Encuentro Folklórico
DESCRIPTION:A total beneficio del Hogar Protección a la Infancia. Entrada anticipadas $2500\, en puerta $3000 contacto entradas anticipadas: 2266- 526751 o en el Hogar de Protección.
URL:https://balcarce.tur.ar/event/gran-encuentro-folklorico/
LOCATION:Cerro “El Triunfo”\, Av. Suipacha y Av. Cereijo\, Balcarce\, Provincia de Buenos Aires\, 7620\, Argentina
CATEGORIES:folklore,musica,pulpería,turismo
ATTACH;FMTTYPE=image/jpeg:https://balcarce.tur.ar/wp-content/uploads/2024/07/WhatsApp-Image-2024-07-02-at-18.29.32.jpeg
END:VEVENT
END:VCALENDAR